BEGIN:VCALENDAR
VERSION:2.0
CALSCALE:GREGORIAN
PRODID:adamgibbons/ics
METHOD:PUBLISH
X-PUBLISHED-TTL:PT1H
BEGIN:VEVENT
UID:369@melbournel.askapunk.net
SUMMARY:LOCKJAW  EP Launch - w/ Lay Low\, Knifepoint\, Rile & No Truce @ Th
	e Tote
DTSTAMP:20260424T174228Z
DTSTART:20260515T100000Z
DTEND:20260515T130000Z
URL:https://melbourne.askapunk.net/event/lockjaw-ep-launch-with-lay-low-kni
	fepoint-rile-and-no-truce
LOCATION:The Tote Upstairs - 71 Johnston St Collingwood VIC
STATUS:CONFIRMED
CATEGORIES:Album Launch,Hardcore,LOCKJAW Rile Lay Low,Melbourne Hardcore,Me
	tallic Hardcore,Punk
END:VEVENT
END:VCALENDAR
